BEGIN:VCALENDAR
VERSION:2.0
PRODID:-//ReLAY Institute - ECPv5.9.1//NONSGML v1.0//EN
CALSCALE:GREGORIAN
METHOD:PUBLISH
X-WR-CALNAME:ReLAY Institute
X-ORIGINAL-URL:https://programs.relayinstitute.org
X-WR-CALDESC:Events for ReLAY Institute
BEGIN:VTIMEZONE
TZID:America/Denver
BEGIN:DAYLIGHT
TZOFFSETFROM:-0700
TZOFFSETTO:-0600
TZNAME:MDT
DTSTART:20260308T090000
END:DAYLIGHT
BEGIN:STANDARD
TZOFFSETFROM:-0600
TZOFFSETTO:-0700
TZNAME:MST
DTSTART:20261101T080000
END:STANDARD
END:VTIMEZONE
BEGIN:VEVENT
DTSTART;TZID=America/Denver:20260520T110000
DTEND;TZID=America/Denver:20260520T123000
DTSTAMP:20260424T143603
CREATED:20260424T000641Z
LAST-MODIFIED:20260424T002158Z
UID:7264-1779274800-1779280200@programs.relayinstitute.org
SUMMARY:Structural Barriers and Youth Disconnection in the Antelope Valley
DESCRIPTION:DATE AND TIMEWednesday\, June 3\, 11 a.m.-12:30 p.m. \nLOCATIONZoom Conference Call \nRSVPRSVP Now \nJoin us for a briefing on original\, place-based research examining the scale\, drivers\, and systemic barriers contributing to youth disconnection in Antelope Valley communities. This study integrates U.S. Census data\, regional labor market analysis\, and input from youth service providers and public agencies — alongside the lived experiences of Opportunity Youth gathered through focus groups and surveys. \n			\n				DOWNLOAD FLYER
URL:https://programs.relayinstitute.org/program/structural-barriers-and-youth-disconnection-in-the-antelope-valley-may-20/
LOCATION:Zoom Conference Call
END:VEVENT
END:VCALENDAR